BEGIN:VCALENDAR
VERSION:2.0
PRODID:-//Cy Art Management - ECPv6.3.3.1//NONSGML v1.0//EN
CALSCALE:GREGORIAN
METHOD:PUBLISH
X-WR-CALNAME:Cy Art Management
X-ORIGINAL-URL:https://cyartm.com
X-WR-CALDESC:Events for Cy Art Management
REFRESH-INTERVAL;VALUE=DURATION:PT1H
X-Robots-Tag:noindex
X-PUBLISHED-TTL:PT1H
BEGIN:VTIMEZONE
TZID:UTC
BEGIN:STANDARD
TZOFFSETFROM:+0000
TZOFFSETTO:+0000
TZNAME:UTC
DTSTART:20220101T000000
END:STANDARD
END:VTIMEZONE
BEGIN:VEVENT
DTSTART;TZID=UTC:20220511T193000
DTEND;TZID=UTC:20220511T223000
DTSTAMP:20260421T132042
CREATED:20220318T134745Z
LAST-MODIFIED:20220318T134745Z
UID:1307-1652297400-1652308200@cyartm.com
SUMMARY:Recital -  Brussels\, Belgium
DESCRIPTION:
URL:https://cyartm.com/index.php/event/recital-brussels-belgium/
END:VEVENT
BEGIN:VEVENT
DTSTART;TZID=UTC:20220515T080000
DTEND;TZID=UTC:20220610T170000
DTSTAMP:20260421T132042
CREATED:20220318T134617Z
LAST-MODIFIED:20220318T134617Z
UID:1303-1652601600-1654880400@cyartm.com
SUMMARY:Brazilian Tour
DESCRIPTION:
URL:https://cyartm.com/index.php/event/brazilian-tour/
END:VEVENT
BEGIN:VEVENT
DTSTART;TZID=UTC:20220524T080000
DTEND;TZID=UTC:20220524T170000
DTSTAMP:20260421T132042
CREATED:20220401T145959Z
LAST-MODIFIED:20220401T150225Z
UID:1321-1653379200-1653411600@cyartm.com
SUMMARY:Sylvia Thereza - Masterclass\, Goiânia\, Brazil
DESCRIPTION:
URL:https://cyartm.com/index.php/event/sylvia-thereza-masterclass-goiania-brazil/
END:VEVENT
BEGIN:VEVENT
DTSTART;TZID=UTC:20220525T080000
DTEND;TZID=UTC:20220525T170000
DTSTAMP:20260421T132042
CREATED:20220401T150037Z
LAST-MODIFIED:20220401T150248Z
UID:1324-1653465600-1653498000@cyartm.com
SUMMARY:Sylvia Thereza - Recital\, Goiânia\, Brazil
DESCRIPTION:
URL:https://cyartm.com/index.php/event/sylvia-thereza-recital-goiania-brazil/
END:VEVENT
BEGIN:VEVENT
DTSTART;TZID=UTC:20220606T080000
DTEND;TZID=UTC:20220606T170000
DTSTAMP:20260421T132042
CREATED:20220401T150109Z
LAST-MODIFIED:20220401T150403Z
UID:1326-1654502400-1654534800@cyartm.com
SUMMARY:Sylvia Thereza\, Concert with Orchestra - Natal\, Brazil
DESCRIPTION:
URL:https://cyartm.com/index.php/event/sylvia-thereza-concerto-com-orquestra-natal-brazil/
END:VEVENT
BEGIN:VEVENT
DTSTART;TZID=UTC:20220826T193000
DTEND;TZID=UTC:20220826T213000
DTSTAMP:20260421T132042
CREATED:20220114T132821Z
LAST-MODIFIED:20220318T135809Z
UID:1227-1661542200-1661549400@cyartm.com
SUMMARY:Sylvia Thereza - Concert with Royal Bangkok Symphony Orchestra
DESCRIPTION:Conductor\nMichel Tilkin\nSoloists\nSylvia Thereza & Theodosia Ntokou\, Piano\nProgramme\nLudwig van Beethoven: Egmont Overture\nWolfgang Amadeus Mozart: Concerto for Two Pianos No.10 in E-flat major\, K.365\nJohannes Brahms: Symphony No.2 in D major\, Op.73
URL:https://cyartm.com/index.php/event/bangkok-thailand/
END:VEVENT
BEGIN:VEVENT
DTSTART;TZID=UTC:20220920T080000
DTEND;TZID=UTC:20220920T170000
DTSTAMP:20260421T132042
CREATED:20220203T143714Z
LAST-MODIFIED:20220203T143714Z
UID:1261-1663660800-1663693200@cyartm.com
SUMMARY:Recital Sylvia Thereza\, Milan - Italy
DESCRIPTION:
URL:https://cyartm.com/index.php/event/recital-sylvia-thereza-milan-italy/
END:VEVENT
BEGIN:VEVENT
DTSTART;TZID=UTC:20221126T080000
DTEND;TZID=UTC:20221126T170000
DTSTAMP:20260421T132042
CREATED:20220203T143806Z
LAST-MODIFIED:20220203T143806Z
UID:1263-1669449600-1669482000@cyartm.com
SUMMARY:Trio
DESCRIPTION:
URL:https://cyartm.com/index.php/event/trio/
END:VEVENT
END:VCALENDAR