BEGIN:VCALENDAR
VERSION:2.0
PRODID:-//Cy Art Management - ECPv6.3.3.1//NONSGML v1.0//EN
CALSCALE:GREGORIAN
METHOD:PUBLISH
X-WR-CALNAME:Cy Art Management
X-ORIGINAL-URL:https://cyartm.com
X-WR-CALDESC:Events for Cy Art Management
REFRESH-INTERVAL;VALUE=DURATION:PT1H
X-Robots-Tag:noindex
X-PUBLISHED-TTL:PT1H
BEGIN:VTIMEZONE
TZID:UTC
BEGIN:STANDARD
TZOFFSETFROM:+0000
TZOFFSETTO:+0000
TZNAME:UTC
DTSTART:20220101T000000
END:STANDARD
END:VTIMEZONE
BEGIN:VEVENT
DTSTART;TZID=UTC:20220326T170000
DTEND;TZID=UTC:20220326T170000
DTSTAMP:20260416T231413
CREATED:20220318T135102Z
LAST-MODIFIED:20220318T135102Z
UID:1314-1648314000-1648314000@cyartm.com
SUMMARY:Duo Recital - Judith Ermert\, cello and Sylvia Thereza Piano
DESCRIPTION:
URL:https://cyartm.com/index.php/event/duo-recital-judith-ermert-cello-and-sylvia-thereza-piano/
END:VEVENT
END:VCALENDAR