BEGIN:VCALENDAR
VERSION:2.0
PRODID:-//Cy Art Management - ECPv6.3.3.1//NONSGML v1.0//EN
CALSCALE:GREGORIAN
METHOD:PUBLISH
X-ORIGINAL-URL:https://cyartm.com
X-WR-CALDESC:Events for Cy Art Management
REFRESH-INTERVAL;VALUE=DURATION:PT1H
X-Robots-Tag:noindex
X-PUBLISHED-TTL:PT1H
BEGIN:VTIMEZONE
TZID:UTC
BEGIN:STANDARD
TZOFFSETFROM:+0000
TZOFFSETTO:+0000
TZNAME:UTC
DTSTART:20220101T000000
END:STANDARD
END:VTIMEZONE
BEGIN:VEVENT
DTSTART;TZID=UTC:20220213T200000
DTEND;TZID=UTC:20220213T200000
DTSTAMP:20260417T010202
CREATED:20220203T142750Z
LAST-MODIFIED:20220203T142750Z
UID:1248-1644782400-1644782400@cyartm.com
SUMMARY:Sylvia Thereza\, Soloist with OSM Orchestra – SP\, Brazil
DESCRIPTION:Villa Total: Parte II\nConcerto presencial\, aberto ao público \nOrquestra Sinfônica Municipal\nCoral Paulistano\nRoberto Minczuk\, regência\nSylvia Thereza\, piano
URL:https://cyartm.com/index.php/event/sylvia-thereza-soloist-with-osm-orchestra-sp-brazil-2/
LOCATION:Theatro Municipal de São Paulo\, Praça Ramos de Azevedo\, s/n - República\, São Paulo - SP\, 01037-010\, Brazil
END:VEVENT
END:VCALENDAR