BEGIN:VCALENDAR
VERSION:2.0
PRODID:-//Cy Art Management - ECPv6.3.3.1//NONSGML v1.0//EN
CALSCALE:GREGORIAN
METHOD:PUBLISH
X-WR-CALNAME:Cy Art Management
X-ORIGINAL-URL:https://cyartm.com
X-WR-CALDESC:Events for Cy Art Management
REFRESH-INTERVAL;VALUE=DURATION:PT1H
X-Robots-Tag:noindex
X-PUBLISHED-TTL:PT1H
BEGIN:VTIMEZONE
TZID:UTC
BEGIN:STANDARD
TZOFFSETFROM:+0000
TZOFFSETTO:+0000
TZNAME:UTC
DTSTART:20220101T000000
END:STANDARD
END:VTIMEZONE
BEGIN:VEVENT
DTSTART;TZID=UTC:20220212T200000
DTEND;TZID=UTC:20220212T200000
DTSTAMP:20260421T215121
CREATED:20220203T142610Z
LAST-MODIFIED:20220203T142610Z
UID:1245-1644696000-1644696000@cyartm.com
SUMMARY:Sylvia Thereza\, Soloist with OSM Orchestra - SP\, Brazil
DESCRIPTION:Villa Total: Parte II\nConcerto presencial\, aberto ao público \nOrquestra Sinfônica Municipal\nCoral Paulistano\nRoberto Minczuk\, regência\nSylvia Thereza\, piano \nPrograma \nHEITOR VILLA-LOBOS (1887-1959)\nBachianas Brasileiras nº 9 (10′)\nI. Prelúdio: Vagaroso e Místico\nII. Fuga: Poco Apressado  \nBachianas Brasileiras nº 3 (27′)\nI. Prelúdio: Ponteio\nII. Fantasia: Devaneio\nIII. Ária: Modinha\nIV. Tocata: Picapau  \n(Intervalo) \nBachianas Brasileiras nº 6 (9’) \nBachianas brasileiras no.4 (22’)\nI. Prélude: Introdução\nII. Choral: Canto do Sertão\nIII. Ária: Cantiga\nIV. Danse: Miudinho \nBachianas Brasileiras nº 7 (26′)\nI. Prelúdio: Ponteio\nII. Giga: Quadrilha Caipira\nIII. Tocata: Desafio\nIV. Fuga: Conversa \nIngressos R$10\,00 a R$60\,00\nClassificação livre\nDuração Total 94 minutos
URL:https://cyartm.com/index.php/event/sylvia-thereza-soloist-with-osm-orchestra-sp-brazil/
LOCATION:Theatro Municipal de São Paulo\, Praça Ramos de Azevedo\, s/n - República\, São Paulo - SP\, 01037-010\, Brazil
END:VEVENT
END:VCALENDAR